Package: spaSim Version: 1.9.0 Command: /Library/Frameworks/R.framework/Resources/bin/R CMD INSTALL spaSim StartedAt: 2025-02-20 15:15:31 -0500 (Thu, 20 Feb 2025) EndedAt: 2025-02-20 15:16:08 -0500 (Thu, 20 Feb 2025) EllapsedTime: 37.3 seconds RetCode: 0 Status: OK