Package: spaSim Version: 1.9.0 Command: /Library/Frameworks/R.framework/Resources/bin/R CMD build --keep-empty-dirs --no-resave-data spaSim StartedAt: 2025-02-20 17:40:25 -0500 (Thu, 20 Feb 2025) EndedAt: 2025-02-20 17:41:14 -0500 (Thu, 20 Feb 2025) EllapsedTime: 49.6 seconds RetCode: 0 Status: OK PackageFile: spaSim_1.9.0.tar.gz PackageFileSize: 3.901 MiB