Package: soGGi Version: 1.39.0 Command: /home/biocbuild/bbs-3.21-bioc/R/bin/R CMD check --install=check:soGGi.install-out.txt --library=/home/biocbuild/bbs-3.21-bioc/R/site-library --timings soGGi_1.39.0.tar.gz StartedAt: 2025-02-21 02:03:42 -0500 (Fri, 21 Feb 2025) EndedAt: 2025-02-21 02:08:59 -0500 (Fri, 21 Feb 2025) EllapsedTime: 317.4 seconds RetCode: 0 Status: OK CheckDir: soGGi.Rcheck Warnings: 0