Package: snpStats Version: 1.57.0 Command: /home/biocbuild/bbs-3.21-bioc/R/bin/R CMD build --keep-empty-dirs --no-resave-data snpStats StartedAt: 2025-02-18 19:11:48 -0500 (Tue, 18 Feb 2025) EndedAt: 2025-02-18 19:12:21 -0500 (Tue, 18 Feb 2025) EllapsedTime: 33.0 seconds RetCode: 1 Status: ERROR PackageFile: None PackageFileSize: NA