Package: snm Version: 1.55.0 Command: E:\biocbuild\bbs-3.21-bioc\R\bin\R.exe CMD INSTALL snm StartedAt: 2025-02-21 16:07:04 -0500 (Fri, 21 Feb 2025) EndedAt: 2025-02-21 16:07:22 -0500 (Fri, 21 Feb 2025) EllapsedTime: 17.1 seconds RetCode: 0 Status: OK