Package: snm Version: 1.55.0 Command: chmod a+r snm -R && E:\biocbuild\bbs-3.21-bioc\R\bin\R.exe CMD build --keep-empty-dirs --no-resave-data snm StartedAt: 2025-02-21 22:28:19 -0500 (Fri, 21 Feb 2025) EndedAt: 2025-02-21 22:30:20 -0500 (Fri, 21 Feb 2025) EllapsedTime: 121.8 seconds RetCode: 0 Status: OK PackageFile: snm_1.55.0.tar.gz PackageFileSize: 567.4 KiB