Package: snm Version: 1.55.0 Command: /home/biocbuild/bbs-3.21-bioc/R/bin/R CMD INSTALL snm StartedAt: 2025-02-21 15:48:54 -0500 (Fri, 21 Feb 2025) EndedAt: 2025-02-21 15:49:24 -0500 (Fri, 21 Feb 2025) EllapsedTime: 29.6 seconds RetCode: 0 Status: OK