Package: snm Version: 1.55.0 Command: /home/biocbuild/bbs-3.21-bioc/R/bin/R CMD check --install=check:snm.install-out.txt --library=/home/biocbuild/bbs-3.21-bioc/R/site-library --timings snm_1.55.0.tar.gz StartedAt: 2025-02-21 02:02:52 -0500 (Fri, 21 Feb 2025) EndedAt: 2025-02-21 02:08:44 -0500 (Fri, 21 Feb 2025) EllapsedTime: 351.5 seconds RetCode: 0 Status: OK CheckDir: snm.Rcheck Warnings: 0