Package: snm Version: 1.55.0 Command: /home/biocbuild/bbs-3.21-bioc/R/bin/R CMD build --keep-empty-dirs --no-resave-data snm StartedAt: 2025-02-20 19:21:35 -0500 (Thu, 20 Feb 2025) EndedAt: 2025-02-20 19:23:27 -0500 (Thu, 20 Feb 2025) EllapsedTime: 112.1 seconds RetCode: 0 Status: OK PackageFile: snm_1.55.0.tar.gz PackageFileSize: 727.7 KiB