Package: snm Version: 1.55.0 Command: /Library/Frameworks/R.framework/Resources/bin/R CMD check --install=check:snm.install-out.txt --library=/Library/Frameworks/R.framework/Resources/library --no-vignettes --timings snm_1.55.0.tar.gz StartedAt: 2025-02-20 23:23:22 -0500 (Thu, 20 Feb 2025) EndedAt: 2025-02-20 23:28:16 -0500 (Thu, 20 Feb 2025) EllapsedTime: 293.7 seconds RetCode: 0 Status: OK CheckDir: snm.Rcheck Warnings: 0