Package: snm Version: 1.55.0 Command: /Library/Frameworks/R.framework/Resources/bin/R CMD build --keep-empty-dirs --no-resave-data snm StartedAt: 2025-02-20 18:19:41 -0500 (Thu, 20 Feb 2025) EndedAt: 2025-02-20 18:21:29 -0500 (Thu, 20 Feb 2025) EllapsedTime: 108.5 seconds RetCode: 0 Status: OK PackageFile: snm_1.55.0.tar.gz PackageFileSize: 727.1 KiB