Package: snifter Version: 1.17.0 Command: E:\biocbuild\bbs-3.21-bioc\R\bin\R.exe CMD check --no-multiarch --install=check:snifter.install-out.txt --library=E:\biocbuild\bbs-3.21-bioc\R\library --no-vignettes --timings snifter_1.17.0.tar.gz StartedAt: 2025-02-21 05:54:36 -0500 (Fri, 21 Feb 2025) EndedAt: 2025-02-21 05:57:53 -0500 (Fri, 21 Feb 2025) EllapsedTime: 196.9 seconds RetCode: 0 Status: OK CheckDir: snifter.Rcheck Warnings: 0