Package: snifter Version: 1.17.0 Command: chmod a+r snifter -R && E:\biocbuild\bbs-3.21-bioc\R\bin\R.exe --arch x64 CMD build --keep-empty-dirs --no-resave-data snifter StartedAt: 2025-02-20 21:54:34 -0500 (Thu, 20 Feb 2025) EndedAt: 2025-02-20 21:57:21 -0500 (Thu, 20 Feb 2025) EllapsedTime: 166.5 seconds RetCode: 0 Status: OK PackageFile: snifter_1.17.0.tar.gz PackageFileSize: 499.6 KiB