Package: snifter Version: 1.17.0 Command: rm -rf snifter.buildbin-libdir && mkdir snifter.buildbin-libdir && E:\biocbuild\bbs-3.21-bioc\R\bin\R.exe CMD INSTALL --build --library=snifter.buildbin-libdir snifter_1.17.0.tar.gz StartedAt: 2025-02-21 09:08:57 -0500 (Fri, 21 Feb 2025) EndedAt: 2025-02-21 09:09:12 -0500 (Fri, 21 Feb 2025) EllapsedTime: 15.0 seconds RetCode: 0 Status: OK PackageFile: snifter_1.17.0.zip PackageFileSize: 519 KiB