Package: snifter Version: 1.17.0 Command: /home/biocbuild/bbs-3.21-bioc/R/bin/R CMD INSTALL snifter StartedAt: 2025-02-20 15:20:09 -0500 (Thu, 20 Feb 2025) EndedAt: 2025-02-20 15:20:15 -0500 (Thu, 20 Feb 2025) EllapsedTime: 6.0 seconds RetCode: 0 Status: OK