Package: snifter Version: 1.17.0 Command: /Library/Frameworks/R.framework/Resources/bin/R CMD INSTALL snifter StartedAt: 2025-02-21 15:03:37 -0500 (Fri, 21 Feb 2025) EndedAt: 2025-02-21 15:03:40 -0500 (Fri, 21 Feb 2025) EllapsedTime: 3.4 seconds RetCode: 0 Status: OK