Package: snifter Version: 1.17.0 Command: /Library/Frameworks/R.framework/Resources/bin/R CMD build --keep-empty-dirs --no-resave-data snifter StartedAt: 2025-02-21 17:38:26 -0500 (Fri, 21 Feb 2025) EndedAt: 2025-02-21 17:38:48 -0500 (Fri, 21 Feb 2025) EllapsedTime: 22.2 seconds RetCode: 0 Status: OK PackageFile: snifter_1.17.0.tar.gz PackageFileSize: 877.2 KiB