Package: snapcount Version: 1.19.0 Command: /Library/Frameworks/R.framework/Resources/bin/R CMD check --install=check:snapcount.install-out.txt --library=/Library/Frameworks/R.framework/Resources/library --no-vignettes --timings snapcount_1.19.0.tar.gz StartedAt: 2025-02-20 21:31:07 -0500 (Thu, 20 Feb 2025) EndedAt: 2025-02-20 21:34:35 -0500 (Thu, 20 Feb 2025) EllapsedTime: 208.3 seconds RetCode: 0 Status: OK CheckDir: snapcount.Rcheck Warnings: 0