Package: smoppix Version: 0.99.44 Command: E:\biocbuild\bbs-3.21-bioc\R\bin\R.exe CMD INSTALL smoppix StartedAt: 2025-02-18 17:00:38 -0500 (Tue, 18 Feb 2025) EndedAt: 2025-02-18 17:01:48 -0500 (Tue, 18 Feb 2025) EllapsedTime: 69.6 seconds RetCode: 0 Status: OK