############################################################################## ############################################################################## ### ### Running command: ### ### chmod a+r smoppix -R && E:\biocbuild\bbs-3.21-bioc\R\bin\R.exe CMD build --keep-empty-dirs --no-resave-data smoppix ### ############################################################################## ############################################################################## * checking for file 'smoppix/DESCRIPTION' ... OK * preparing 'smoppix': * checking DESCRIPTION meta-information ... OK * cleaning src * installing the package to process help pages Loading required namespace: smoppix * saving partial Rd database * creating vignettes ...Warning in file(con, "r") : cannot open file 'E:\biocbuild\bbs-3.21-bioc\tmpdir\Rtmpq6YjDj\xshell4b0ca436ed9': Permission denied Error in file(con, "r") : cannot open the connection Execution halted