Package: smoppix Version: 0.99.44 Command: /home/biocbuild/bbs-3.21-bioc/R/bin/R CMD INSTALL smoppix StartedAt: 2025-02-18 15:22:08 -0500 (Tue, 18 Feb 2025) EndedAt: 2025-02-18 15:22:54 -0500 (Tue, 18 Feb 2025) EllapsedTime: 45.7 seconds RetCode: 0 Status: OK