Package: smoppix Version: 0.99.44 Command: /Library/Frameworks/R.framework/Resources/bin/R CMD INSTALL smoppix StartedAt: 2025-02-17 15:44:26 -0500 (Mon, 17 Feb 2025) EndedAt: 2025-02-17 15:45:21 -0500 (Mon, 17 Feb 2025) EllapsedTime: 54.9 seconds RetCode: 0 Status: OK