Package: smoppix Version: 0.99.44 Command: /Library/Frameworks/R.framework/Resources/bin/R CMD check --install=check:smoppix.install-out.txt --library=/Library/Frameworks/R.framework/Resources/library --no-vignettes --timings smoppix_0.99.44.tar.gz StartedAt: 2025-02-17 23:17:04 -0500 (Mon, 17 Feb 2025) EndedAt: 2025-02-17 23:24:29 -0500 (Mon, 17 Feb 2025) EllapsedTime: 445.6 seconds RetCode: 0 Status: OK CheckDir: smoppix.Rcheck Warnings: 0