Package: smoppix Version: 0.99.44 Command: /Library/Frameworks/R.framework/Resources/bin/R CMD build --keep-empty-dirs --no-resave-data smoppix StartedAt: 2025-02-17 18:17:33 -0500 (Mon, 17 Feb 2025) EndedAt: 2025-02-17 18:23:02 -0500 (Mon, 17 Feb 2025) EllapsedTime: 329.0 seconds RetCode: 0 Status: OK PackageFile: smoppix_0.99.44.tar.gz PackageFileSize: 4.888 MiB