Package: smoppix Version: 0.99.44 Command: rm -rf smoppix.buildbin-libdir && mkdir smoppix.buildbin-libdir && /Users/biocbuild/BBS/utils/build-universal.sh smoppix_0.99.44.tar.gz /Library/Frameworks/R.framework/Resources/bin/R smoppix.buildbin-libdir StartedAt: 2025-02-18 00:48:11 -0500 (Tue, 18 Feb 2025) EndedAt: 2025-02-18 00:49:02 -0500 (Tue, 18 Feb 2025) EllapsedTime: 51.7 seconds RetCode: 0 Status: OK PackageFile: smoppix_0.99.44.tgz PackageFileSize: 5.074 MiB