Package: smoppix Version: 0.99.43 Maintainer: Stijn Hawinkel MaintainerEmail: stijn.hawinkel at psb.ugent.be git_url: https://git.bioconductor.org/packages/smoppix git_branch: devel git_last_commit: 53af040 git_last_commit_date: 2025-02-11 03:39:11 -0500 (Tue, 11 Feb 2025)