Package: smoothclust Version: 1.3.0 Command: E:\biocbuild\bbs-3.21-bioc\R\bin\R.exe CMD INSTALL smoothclust StartedAt: 2025-02-19 15:54:46 -0500 (Wed, 19 Feb 2025) EndedAt: 2025-02-19 15:55:27 -0500 (Wed, 19 Feb 2025) EllapsedTime: 40.8 seconds RetCode: 0 Status: OK