Package: smoothclust Version: 1.3.0 Command: E:\biocbuild\bbs-3.21-bioc\R\bin\R.exe CMD check --no-multiarch --install=check:smoothclust.install-out.txt --library=E:\biocbuild\bbs-3.21-bioc\R\library --no-vignettes --timings smoothclust_1.3.0.tar.gz StartedAt: 2025-02-20 05:36:51 -0500 (Thu, 20 Feb 2025) EndedAt: 2025-02-20 05:46:40 -0500 (Thu, 20 Feb 2025) EllapsedTime: 588.2 seconds RetCode: 0 Status: OK CheckDir: smoothclust.Rcheck Warnings: 0