Package: smoothclust Version: 1.3.0 Command: chmod a+r smoothclust -R && E:\biocbuild\bbs-3.21-bioc\R\bin\R.exe CMD build --keep-empty-dirs --no-resave-data smoothclust StartedAt: 2025-02-20 21:54:13 -0500 (Thu, 20 Feb 2025) EndedAt: 2025-02-20 21:58:33 -0500 (Thu, 20 Feb 2025) EllapsedTime: 260.3 seconds RetCode: 0 Status: OK PackageFile: smoothclust_1.3.0.tar.gz PackageFileSize: 326.4 KiB