Package: smoothclust Version: 1.3.0 Command: rm -rf smoothclust.buildbin-libdir && mkdir smoothclust.buildbin-libdir && E:\biocbuild\bbs-3.21-bioc\R\bin\R.exe CMD INSTALL --build --library=smoothclust.buildbin-libdir smoothclust_1.3.0.tar.gz StartedAt: 2025-02-20 08:49:02 -0500 (Thu, 20 Feb 2025) EndedAt: 2025-02-20 08:49:42 -0500 (Thu, 20 Feb 2025) EllapsedTime: 39.4 seconds RetCode: 0 Status: OK PackageFile: smoothclust_1.3.0.zip PackageFileSize: 343.8 KiB