Package: slingshot Version: 2.15.0 Command: E:\biocbuild\bbs-3.21-bioc\R\bin\R.exe CMD INSTALL slingshot StartedAt: 2025-02-20 16:17:25 -0500 (Thu, 20 Feb 2025) EndedAt: 2025-02-20 16:18:16 -0500 (Thu, 20 Feb 2025) EllapsedTime: 50.4 seconds RetCode: 0 Status: OK