Package: slingshot Version: 2.15.0 Command: /Library/Frameworks/R.framework/Resources/bin/R CMD build --keep-empty-dirs --no-resave-data slingshot StartedAt: 2025-02-20 18:18:55 -0500 (Thu, 20 Feb 2025) EndedAt: 2025-02-20 18:20:01 -0500 (Thu, 20 Feb 2025) EllapsedTime: 66.3 seconds RetCode: 0 Status: OK PackageFile: slingshot_2.15.0.tar.gz PackageFileSize: 2.263 MiB