Package: slalom Version: 1.29.0 Command: E:\biocbuild\bbs-3.21-bioc\R\bin\R.exe CMD check --no-multiarch --install=check:slalom.install-out.txt --library=E:\biocbuild\bbs-3.21-bioc\R\library --no-vignettes --timings slalom_1.29.0.tar.gz StartedAt: 2025-02-21 05:53:01 -0500 (Fri, 21 Feb 2025) EndedAt: 2025-02-21 05:58:54 -0500 (Fri, 21 Feb 2025) EllapsedTime: 353.2 seconds RetCode: 0 Status: WARNINGS CheckDir: slalom.Rcheck Warnings: 1