Package: slalom Version: 1.29.0 Command: chmod a+r slalom -R && E:\biocbuild\bbs-3.21-bioc\R\bin\R.exe CMD build --keep-empty-dirs --no-resave-data slalom StartedAt: 2025-02-20 21:53:27 -0500 (Thu, 20 Feb 2025) EndedAt: 2025-02-20 21:55:38 -0500 (Thu, 20 Feb 2025) EllapsedTime: 131.5 seconds RetCode: 0 Status: OK PackageFile: slalom_1.29.0.tar.gz PackageFileSize: 17.42 MiB