Package: slalom Version: 1.29.0 Command: /home/biocbuild/bbs-3.21-bioc/R/bin/R CMD INSTALL slalom StartedAt: 2025-02-20 15:40:11 -0500 (Thu, 20 Feb 2025) EndedAt: 2025-02-20 15:41:06 -0500 (Thu, 20 Feb 2025) EllapsedTime: 54.3 seconds RetCode: 0 Status: OK