Package: slalom Version: 1.29.0 Command: /home/biocbuild/bbs-3.21-bioc/R/bin/R CMD check --install=check:slalom.install-out.txt --library=/home/biocbuild/bbs-3.21-bioc/R/site-library --timings slalom_1.29.0.tar.gz StartedAt: 2025-02-21 02:00:26 -0500 (Fri, 21 Feb 2025) EndedAt: 2025-02-21 02:05:41 -0500 (Fri, 21 Feb 2025) EllapsedTime: 314.4 seconds RetCode: 0 Status: WARNINGS CheckDir: slalom.Rcheck Warnings: 1