Package: sketchR Version: 1.3.0 Command: /home/biocbuild/bbs-3.21-bioc/R/bin/R CMD INSTALL sketchR StartedAt: 2025-02-20 15:24:51 -0500 (Thu, 20 Feb 2025) EndedAt: 2025-02-20 15:25:04 -0500 (Thu, 20 Feb 2025) EllapsedTime: 13.7 seconds RetCode: 0 Status: OK