Package: sketchR Version: 1.3.0 Command: /Library/Frameworks/R.framework/Resources/bin/R CMD check --install=check:sketchR.install-out.txt --library=/Library/Frameworks/R.framework/Resources/library --no-vignettes --timings sketchR_1.3.0.tar.gz StartedAt: 2025-02-20 23:21:02 -0500 (Thu, 20 Feb 2025) EndedAt: 2025-02-20 23:24:00 -0500 (Thu, 20 Feb 2025) EllapsedTime: 178.0 seconds RetCode: 0 Status: OK CheckDir: sketchR.Rcheck Warnings: 0