Package: sketchR Version: 1.3.0 Command: /Library/Frameworks/R.framework/Resources/bin/R CMD build --keep-empty-dirs --no-resave-data sketchR StartedAt: 2025-02-20 18:18:47 -0500 (Thu, 20 Feb 2025) EndedAt: 2025-02-20 18:20:51 -0500 (Thu, 20 Feb 2025) EllapsedTime: 124.6 seconds RetCode: 0 Status: OK PackageFile: sketchR_1.3.0.tar.gz PackageFileSize: 1.161 MiB