Package: sketchR Version: 1.3.0 Command: rm -rf sketchR.buildbin-libdir && mkdir sketchR.buildbin-libdir && /Users/biocbuild/BBS/utils/build-universal.sh sketchR_1.3.0.tar.gz /Library/Frameworks/R.framework/Resources/bin/R sketchR.buildbin-libdir StartedAt: 2025-02-21 00:54:20 -0500 (Fri, 21 Feb 2025) EndedAt: 2025-02-21 00:54:45 -0500 (Fri, 21 Feb 2025) EllapsedTime: 24.3 seconds RetCode: 0 Status: OK PackageFile: sketchR_1.3.0.tgz PackageFileSize: 1.187 MiB