Package: sizepower Version: 1.77.0 Command: E:\biocbuild\bbs-3.21-bioc\R\bin\R.exe CMD INSTALL sizepower StartedAt: 2025-02-18 15:18:03 -0500 (Tue, 18 Feb 2025) EndedAt: 2025-02-18 15:18:09 -0500 (Tue, 18 Feb 2025) EllapsedTime: 6.0 seconds RetCode: 0 Status: OK