Package: sizepower Version: 1.77.0 Command: rm -rf sizepower.buildbin-libdir && mkdir sizepower.buildbin-libdir && /Users/biocbuild/BBS/utils/build-universal.sh sizepower_1.77.0.tar.gz /Library/Frameworks/R.framework/Resources/bin/R sizepower.buildbin-libdir StartedAt: 2025-02-19 00:48:17 -0500 (Wed, 19 Feb 2025) EndedAt: 2025-02-19 00:48:21 -0500 (Wed, 19 Feb 2025) EllapsedTime: 4.6 seconds RetCode: 0 Status: OK PackageFile: sizepower_1.77.0.tgz PackageFileSize: 314.7 KiB