Package: sizepower Version: 1.77.0 Command: /home/biocbuild/R/R/bin/R CMD INSTALL sizepower StartedAt: 2025-01-29 19:29:53 -0000 (Wed, 29 Jan 2025) EndedAt: 2025-01-29 19:30:14 -0000 (Wed, 29 Jan 2025) EllapsedTime: 21.1 seconds RetCode: 0 Status: OK