Package: sizepower Version: 1.77.0 Command: /Library/Frameworks/R.framework/Resources/bin/R CMD INSTALL sizepower StartedAt: 2025-02-18 15:01:09 -0500 (Tue, 18 Feb 2025) EndedAt: 2025-02-18 15:01:10 -0500 (Tue, 18 Feb 2025) EllapsedTime: 1.1 seconds RetCode: 0 Status: OK