Package: sizepower Version: 1.77.0 Command: /Library/Frameworks/R.framework/Resources/bin/R CMD build --keep-empty-dirs --no-resave-data sizepower StartedAt: 2025-02-18 17:41:28 -0500 (Tue, 18 Feb 2025) EndedAt: 2025-02-18 17:41:33 -0500 (Tue, 18 Feb 2025) EllapsedTime: 4.1 seconds RetCode: 0 Status: OK PackageFile: sizepower_1.77.0.tar.gz PackageFileSize: 296.2 KiB