Package: sitePath Version: 1.23.0 Command: rm -rf sitePath.buildbin-libdir && mkdir sitePath.buildbin-libdir && E:\biocbuild\bbs-3.21-bioc\R\bin\R.exe CMD INSTALL --build --library=sitePath.buildbin-libdir sitePath_1.23.0.tar.gz StartedAt: 2025-02-18 08:20:17 -0500 (Tue, 18 Feb 2025) EndedAt: 2025-02-18 08:21:18 -0500 (Tue, 18 Feb 2025) EllapsedTime: 60.4 seconds RetCode: 0 Status: OK PackageFile: sitePath_1.23.0.zip PackageFileSize: 1.284 MiB