Package: sitePath Version: 1.23.0 Command: /Library/Frameworks/R.framework/Resources/bin/R CMD check --install=check:sitePath.install-out.txt --library=/Library/Frameworks/R.framework/Resources/library --no-vignettes --timings sitePath_1.23.0.tar.gz StartedAt: 2025-02-18 23:14:24 -0500 (Tue, 18 Feb 2025) EndedAt: 2025-02-18 23:24:09 -0500 (Tue, 18 Feb 2025) EllapsedTime: 585.4 seconds RetCode: 0 Status: OK CheckDir: sitePath.Rcheck Warnings: 0