Package: sitePath Version: 1.23.0 Command: /Library/Frameworks/R.framework/Resources/bin/R CMD INSTALL sitePath StartedAt: 2025-02-17 15:12:55 -0500 (Mon, 17 Feb 2025) EndedAt: 2025-02-17 15:13:06 -0500 (Mon, 17 Feb 2025) EllapsedTime: 10.9 seconds RetCode: 0 Status: OK