Package: sitePath Version: 1.23.0 Command: /Library/Frameworks/R.framework/Resources/bin/R CMD check --install=check:sitePath.install-out.txt --library=/Library/Frameworks/R.framework/Resources/library --no-vignettes --timings sitePath_1.23.0.tar.gz StartedAt: 2025-02-17 21:28:13 -0500 (Mon, 17 Feb 2025) EndedAt: 2025-02-17 21:31:24 -0500 (Mon, 17 Feb 2025) EllapsedTime: 191.2 seconds RetCode: 0 Status: OK CheckDir: sitePath.Rcheck Warnings: 0