Package: sitePath Version: 1.23.0 Command: /Library/Frameworks/R.framework/Resources/bin/R CMD build --keep-empty-dirs --no-resave-data sitePath StartedAt: 2025-02-17 17:37:04 -0500 (Mon, 17 Feb 2025) EndedAt: 2025-02-17 17:37:24 -0500 (Mon, 17 Feb 2025) EllapsedTime: 19.2 seconds RetCode: 0 Status: OK PackageFile: sitePath_1.23.0.tar.gz PackageFileSize: 1.243 MiB